BEGIN:VCALENDAR
VERSION:2.0
PRODID:-//eventon.com NONSGML v1.0//EN
CALSCALE:GREGORIAN
METHOD:PUBLISH
BEGIN:VEVENT
UID:69e74a36b2c81
DTSTAMP:20260421T095814Z
DTSTART:20240921T180000Z
DTEND:20240921T070000Z
LOCATION:
SUMMARY:Amanecer y Atardecer en Equilibrio: Entendiendo los Equinoccios
DESCRIPTION:Tipo de actividad: Plática Descripción: En esta charla\,  exp
 loraremos los equinoccios de otoño\,  momentos del año cuando el día y l
 a noche tienen la misma duración. Analizaremos cómo los antiguos mesoamer
 icanos entendían y celebraban estos puntos de transición\,  esenciales pa
 ra su calendario\,  prácticas agrícolas y rituales religiosos. Discutirem
 os la relevancia[..]\nhttps://museokaluz.org/events/amanecer-y-atardecer-en
 -equilibrio-entendiendo-los-equinoccios/
URL:https://museokaluz.org/events/amanecer-y-atardecer-en-equilibrio-entendiendo-los-equinoccios/
END:VEVENT
END:VCALENDAR